BEGIN:VCALENDAR
VERSION:2.0
PRODID:-//eventon.com NONSGML v1.0//EN
CALSCALE:GREGORIAN
METHOD:PUBLISH
BEGIN:VEVENT
UID:69e7507d37096
DTSTAMP:20260421T102501Z
DTSTART:20260725T100000Z
DTEND:20260726T180000Z
LOCATION:
SUMMARY:Leicestershire Classic and Open
DESCRIPTION:Leicestershire Classic and Open\nhttps://britishdisabilitydarts
 .co.uk/events/dartford-classic-and-trophy/
URL:https://britishdisabilitydarts.co.uk/events/dartford-classic-and-trophy/
END:VEVENT
END:VCALENDAR